BEGIN:VCALENDAR
VERSION:2.0
PRODID:-//Amsterdam Chapter - ECPv6.15.20//NONSGML v1.0//EN
CALSCALE:GREGORIAN
METHOD:PUBLISH
X-WR-CALNAME:Amsterdam Chapter
X-ORIGINAL-URL:https://amsterdamchapter.nl
X-WR-CALDESC:Evenementen voor Amsterdam Chapter
REFRESH-INTERVAL;VALUE=DURATION:PT1H
X-Robots-Tag:noindex
X-PUBLISHED-TTL:PT1H
BEGIN:VTIMEZONE
TZID:Europe/Amsterdam
BEGIN:DAYLIGHT
TZOFFSETFROM:+0100
TZOFFSETTO:+0200
TZNAME:CEST
DTSTART:20250330T010000
END:DAYLIGHT
BEGIN:STANDARD
TZOFFSETFROM:+0200
TZOFFSETTO:+0100
TZNAME:CET
DTSTART:20251026T010000
END:STANDARD
BEGIN:DAYLIGHT
TZOFFSETFROM:+0100
TZOFFSETTO:+0200
TZNAME:CEST
DTSTART:20260329T010000
END:DAYLIGHT
BEGIN:STANDARD
TZOFFSETFROM:+0200
TZOFFSETTO:+0100
TZNAME:CET
DTSTART:20261025T010000
END:STANDARD
BEGIN:DAYLIGHT
TZOFFSETFROM:+0100
TZOFFSETTO:+0200
TZNAME:CEST
DTSTART:20270328T010000
END:DAYLIGHT
BEGIN:STANDARD
TZOFFSETFROM:+0200
TZOFFSETTO:+0100
TZNAME:CET
DTSTART:20271031T010000
END:STANDARD
END:VTIMEZONE
BEGIN:VEVENT
DTSTART;VALUE=DATE:20260531
DTEND;VALUE=DATE:20260601
DTSTAMP:20260423T003509
CREATED:20260111T110231Z
LAST-MODIFIED:20260111T110231Z
UID:34053-1780185600-1780271999@amsterdamchapter.nl
SUMMARY:Mei Rit
DESCRIPTION:
URL:https://amsterdamchapter.nl/event/mei-rit/
END:VEVENT
BEGIN:VEVENT
DTSTART;TZID=Europe/Amsterdam:20260426T103000
DTEND;TZID=Europe/Amsterdam:20260426T170000
DTSTAMP:20260423T003509
CREATED:20260111T110208Z
LAST-MODIFIED:20260409T123252Z
UID:34051-1777199400-1777222800@amsterdamchapter.nl
SUMMARY:Hinne & wer
DESCRIPTION:
URL:https://amsterdamchapter.nl/event/april-rit/
LOCATION:Zürich\, Viaduct 3\, Zürich\, 8751TL
ATTACH;FMTTYPE=image/jpeg:https://amsterdamchapter.nl/wp-content/uploads/Hinne-en-Wer-26-april-def-scaled.jpg
ORGANIZER;CN="Roadcaptains":MAILTO:headroadcaptain@amsterdamchapter.nl
END:VEVENT
BEGIN:VEVENT
DTSTART;TZID=Europe/Amsterdam:20260418T200000
DTEND;TZID=Europe/Amsterdam:20260418T230000
DTSTAMP:20260423T003509
CREATED:20260326T232303Z
LAST-MODIFIED:20260326T232303Z
UID:34459-1776542400-1776553200@amsterdamchapter.nl
SUMMARY:Whiskey proeverij
DESCRIPTION:
URL:https://amsterdamchapter.nl/event/whiskey-proeverij/
LOCATION:Clubhuis\, Nieuw Zeelandweg 15\, Amsterdam\, 1045AL\, Netherlands
CATEGORIES:Club evenement
ATTACH;FMTTYPE=image/png:https://amsterdamchapter.nl/wp-content/uploads/whisky-proeverij-18-april.png
ORGANIZER;CN="Activity Officers":MAILTO:activity@amsterdamchapter.nl
END:VEVENT
BEGIN:VEVENT
DTSTART;TZID=Europe/Amsterdam:20260405T100000
DTEND;TZID=Europe/Amsterdam:20260405T150000
DTSTAMP:20260423T003509
CREATED:20251215T221422Z
LAST-MODIFIED:20260304T000736Z
UID:33952-1775383200-1775401200@amsterdamchapter.nl
SUMMARY:Openingsrit
DESCRIPTION:
URL:https://amsterdamchapter.nl/event/openingsrit/
LOCATION:Van der Valk Hotel Sassenheim\, Warmondweg 8\, Sassenheim\, 2171AH\, Netherlands
CATEGORIES:Ride-out
ATTACH;FMTTYPE=image/png:https://amsterdamchapter.nl/wp-content/uploads/Openingsrit-05-04-2026.png
ORGANIZER;CN="Roadcaptains":MAILTO:headroadcaptain@amsterdamchapter.nl
END:VEVENT
BEGIN:VEVENT
DTSTART;TZID=Europe/Amsterdam:20260326T200000
DTEND;TZID=Europe/Amsterdam:20260326T210000
DTSTAMP:20260423T003509
CREATED:20260320T111816Z
LAST-MODIFIED:20260320T112422Z
UID:34447-1774555200-1774558800@amsterdamchapter.nl
SUMMARY:Rijden in een groep
DESCRIPTION:
URL:https://amsterdamchapter.nl/event/rijden-in-een-groep/
LOCATION:Clubhuis\, Nieuw Zeelandweg 15\, Amsterdam\, 1045AL\, Netherlands
CATEGORIES:Club evenement
ATTACH;FMTTYPE=image/png:https://amsterdamchapter.nl/wp-content/uploads/Rijden-in-een-groep-26-03-scaled.png
ORGANIZER;CN="Roadcaptains":MAILTO:headroadcaptain@amsterdamchapter.nl
END:VEVENT
END:VCALENDAR