BEGIN:VCALENDAR
VERSION:2.0
PRODID:-//Amsterdam Chapter - ECPv6.15.20//NONSGML v1.0//EN
CALSCALE:GREGORIAN
METHOD:PUBLISH
X-WR-CALNAME:Amsterdam Chapter
X-ORIGINAL-URL:https://amsterdamchapter.nl
X-WR-CALDESC:Evenementen voor Amsterdam Chapter
REFRESH-INTERVAL;VALUE=DURATION:PT1H
X-Robots-Tag:noindex
X-PUBLISHED-TTL:PT1H
BEGIN:VTIMEZONE
TZID:Europe/Amsterdam
BEGIN:DAYLIGHT
TZOFFSETFROM:+0100
TZOFFSETTO:+0200
TZNAME:CEST
DTSTART:20250330T010000
END:DAYLIGHT
BEGIN:STANDARD
TZOFFSETFROM:+0200
TZOFFSETTO:+0100
TZNAME:CET
DTSTART:20251026T010000
END:STANDARD
BEGIN:DAYLIGHT
TZOFFSETFROM:+0100
TZOFFSETTO:+0200
TZNAME:CEST
DTSTART:20260329T010000
END:DAYLIGHT
BEGIN:STANDARD
TZOFFSETFROM:+0200
TZOFFSETTO:+0100
TZNAME:CET
DTSTART:20261025T010000
END:STANDARD
BEGIN:DAYLIGHT
TZOFFSETFROM:+0100
TZOFFSETTO:+0200
TZNAME:CEST
DTSTART:20270328T010000
END:DAYLIGHT
BEGIN:STANDARD
TZOFFSETFROM:+0200
TZOFFSETTO:+0100
TZNAME:CET
DTSTART:20271031T010000
END:STANDARD
END:VTIMEZONE
BEGIN:VEVENT
DTSTART;VALUE=DATE:20260806
DTEND;VALUE=DATE:20260811
DTSTAMP:20260420T071324
CREATED:20251123T232627Z
LAST-MODIFIED:20251123T232627Z
UID:33852-1785974400-1786406399@amsterdamchapter.nl
SUMMARY:Buitenlandweekend 2026
DESCRIPTION:
URL:https://amsterdamchapter.nl/event/buitenlandweekend-2026/
LOCATION:Enjoyhotel Zur Krone\, Moselstrasse 11\, Oberfell\, DE 56332\, Germany
CATEGORIES:Club evenement,Ride-out
ATTACH;FMTTYPE=image/png:https://amsterdamchapter.nl/wp-content/uploads/BTL-Weeekend-2026.png
ORGANIZER;CN="Photographer":MAILTO:photos@amsterdamchapter.nl
END:VEVENT
END:VCALENDAR